{
 "currentVersion": 10.41,
 "serviceDescription": "This dataset is a 30-m cell size raster representing annual burn probability (BP) across the analysis area.  BP is the probability that a specific geographic location (30-m pixel) will experience a wildland fire during a specified time period (1 year). Estimates of BP were generated with the large-wildfire simulation system, FSim.\n\nCALFSim model results were completed on the calibrated CALfuelscape (derived from LANDFIRE 2016). The fuelscape was updated with disturbances through the end of the 2019 wildfire season (2020compatible). Simulations were completed at 120-mresolution with 10,000iterations. ",
 "name": "Burn_Probability",
 "description": "This dataset is a 30-m cell size raster representing annual burn probability (BP) across the analysis area.  BP is the probability that a specific geographic location (30-m pixel) will experience a wildland fire during a specified time period (1 year). Estimates of BP were generated with the large-wildfire simulation system, FSim.\n\nCALFSim model results were completed on the calibrated CALfuelscape (derived from LANDFIRE 2016). The fuelscape was updated with disturbances through the end of the 2019 wildfire season (2020compatible). Simulations were completed at 120-mresolution with 10,000iterations. ",
 "extent": {
  "xmin": -380651.3456999995,
  "ymin": -615045.2059000004,
  "xmax": 550038.6543000005,
  "ymax": 460454.7940999996,
  "spatialReference": {
   "wkid": 3310,
   "latestWkid": 3310
  }
 },
 "initialExtent": {
  "xmin": -380651.3456999995,
  "ymin": -615045.2059000004,
  "xmax": 550038.6543000005,
  "ymax": 460454.7940999996,
  "spatialReference": {
   "wkid": 3310,
   "latestWkid": 3310
  }
 },
 "fullExtent": {
  "xmin": -380651.3456999995,
  "ymin": -615045.2059000004,
  "xmax": 550038.6543000005,
  "ymax": 460454.7940999996,
  "spatialReference": {
   "wkid": 3310,
   "latestWkid": 3310
  }
 },
 "pixelSizeX": 30,
 "pixelSizeY": 30,
 "bandCount": 3,
 "pixelType": "U8",
 "minPixelSize": 0,
 "maxPixelSize": 0,
 "copyrightText": "Pryologix, USDA Forest Service",
 "serviceDataType": "esriImageServiceDataTypeRGB",
 "minValues": [],
 "maxValues": [],
 "meanValues": [],
 "stdvValues": [],
 "objectIdField": "",
 "fields": [],
 "capabilities": "Image,Metadata,Mensuration",
 "defaultMosaicMethod": "Center",
 "allowedMosaicMethods": "",
 "sortField": "",
 "sortValue": null,
 "mosaicOperator": "First",
 "defaultCompressionQuality": 75,
 "defaultResamplingMethod": "Bilinear",
 "maxImageHeight": 4100,
 "maxImageWidth": 15000,
 "allowRasterFunction": true,
 "rasterFunctionInfos": [],
 "rasterTypeInfos": [
  {
   "name": "Raster Dataset",
   "description": "Supports all ArcGIS Raster Datasets",
   "help": ""
  }
 ],
 "mensurationCapabilities": "Basic",
 "hasHistograms": false,
 "hasColormap": false,
 "hasRasterAttributeTable": false,
 "minScale": 0,
 "maxScale": 0,
 "exportTilesAllowed": false,
 "hasMultidimensions": false,
 "supportsStatistics": false,
 "supportsAdvancedQueries": false,
 "editFieldsInfo": null,
 "ownershipBasedAccessControlForRasters": null,
 "allowComputeTiePoints": false,
 "useStandardizedQueries": true,
 "advancedQueryCapabilities": {
  "useStandardizedQueries": true,
  "supportsStatistics": false,
  "supportsOrderBy": false,
  "supportsDistinct": false,
  "supportsPagination": false
 },
 "spatialReference": {
  "wkid": 3310,
  "latestWkid": 3310
 }
}