{
 "currentVersion": 10.41,
 "serviceDescription": "Ladder_Fuels_by_Veg",
 "name": "Ladder_Fuels_by_Veg",
 "description": "Ladder_Fuels_by_Veg",
 "extent": {
  "xmin": 6123200,
  "ymin": 1801472,
  "xmax": 6462272,
  "ymax": 2075200,
  "spatialReference": {
   "wkid": 102642,
   "latestWkid": 2226
  }
 },
 "initialExtent": {
  "xmin": 6123200,
  "ymin": 1801472,
  "xmax": 6462272,
  "ymax": 2075200,
  "spatialReference": {
   "wkid": 102642,
   "latestWkid": 2226
  }
 },
 "fullExtent": {
  "xmin": 6123200,
  "ymin": 1801472,
  "xmax": 6462272,
  "ymax": 2075200,
  "spatialReference": {
   "wkid": 102642,
   "latestWkid": 2226
  }
 },
 "pixelSizeX": 64,
 "pixelSizeY": 64,
 "bandCount": 3,
 "pixelType": "U8",
 "minPixelSize": 0,
 "maxPixelSize": 0,
 "copyrightText": "Pepperwood Foundation, the Flora L. Thornton Foundation, Tukman Geospatial LLC, Sonoma Ag + Open Space, NASA",
 "serviceDataType": "esriImageServiceDataTypeRGB",
 "minValues": [],
 "maxValues": [],
 "meanValues": [],
 "stdvValues": [],
 "objectIdField": "",
 "fields": [],
 "capabilities": "Mensuration,Image,Metadata",
 "defaultMosaicMethod": "Center",
 "allowedMosaicMethods": "",
 "sortField": "",
 "sortValue": null,
 "mosaicOperator": "First",
 "defaultCompressionQuality": 75,
 "defaultResamplingMethod": "Nearest",
 "maxImageHeight": 4100,
 "maxImageWidth": 15000,
 "allowRasterFunction": true,
 "rasterFunctionInfos": [],
 "rasterTypeInfos": [
  {
   "name": "Raster Dataset",
   "description": "Supports all ArcGIS Raster Datasets",
   "help": ""
  }
 ],
 "mensurationCapabilities": "Basic",
 "hasHistograms": false,
 "hasColormap": false,
 "hasRasterAttributeTable": false,
 "minScale": 0,
 "maxScale": 0,
 "exportTilesAllowed": false,
 "hasMultidimensions": false,
 "supportsStatistics": false,
 "supportsAdvancedQueries": false,
 "editFieldsInfo": null,
 "ownershipBasedAccessControlForRasters": null,
 "allowComputeTiePoints": false,
 "useStandardizedQueries": true,
 "advancedQueryCapabilities": {
  "useStandardizedQueries": true,
  "supportsStatistics": false,
  "supportsOrderBy": false,
  "supportsDistinct": false,
  "supportsPagination": false
 },
 "spatialReference": {
  "wkid": 102642,
  "latestWkid": 2226
 }
}
