{ "currentVersion": 10.41, "serviceDescription": "
Aerotriangulation: The measurement of the pass points, flight ties, and control data was performed on Leica XPRO Triangulation software, an automated aerial triangulation system. Pass and tie points were all derived automatically using a sophisticated autocorrelation algorithm. In locations where automation failed, manual measurements were made. Measurement adjustment was performed with a robust aerial triangulation software package on softcopy photogrammetric workstations. The final adjustment of the block was accomplished with a rigorous least squares bundle adjustment. The general procedure is to remove all blunders from the data using automatic blunder detection. The bundle adjustment is then run with minimal ground control to test the photogrammetric measurements for consistency. Next, the ABGPS data are added to the adjustment holding the horizontal control very loose and the vertical control very tight. Since horizontal control errors can affect the vertical control but not vice-versa, we can detect errors in the vertical control. The horizontal control is then tightened and the effects on the vertical control and the photogrammetric residuals are inspected. The final adjustment makes sure that all of the measurements are in balance with each other and properly represent the actual conditions.<\/SPAN><\/SPAN><\/P> Orthophoto Processing: Utilizing all four bands [blue (B), green (G), red(R), and infrared [I]] digital orthorectification was performed using bilinear interpolation algorithms resulting in a spatial and radiometric transformation of the digital image from line/sample space into NAD83 (2011), State Plane California II FIPS 0402, US survey feet. The interior and exterior orientation parameters from the aerotriangulation process were used to project each pixel into the ground coordinate system, while the ortho grade DTM was used to correct for relief displacement. Radiometric correction software and techniques were used to create orthophoto files that minimize the appearance of image seams and without loss of feature signature. Orthophotos are checked for geometric accuracy, image quality, and are tonally balanced to produce a uniform contrast and tone across the entire project. The individual overlapping orthophoto frames were mosaiced together.<\/SPAN><\/SPAN><\/P> <\/P><\/DIV><\/DIV><\/DIV>",
"name": "ORTHOS_2018_POSTFIRE",
"description": " Aerotriangulation: The measurement of the pass points, flight ties, and control data was performed on Leica XPRO Triangulation software, an automated aerial triangulation system. Pass and tie points were all derived automatically using a sophisticated autocorrelation algorithm. In locations where automation failed, manual measurements were made. Measurement adjustment was performed with a robust aerial triangulation software package on softcopy photogrammetric workstations. The final adjustment of the block was accomplished with a rigorous least squares bundle adjustment. The general procedure is to remove all blunders from the data using automatic blunder detection. The bundle adjustment is then run with minimal ground control to test the photogrammetric measurements for consistency. Next, the ABGPS data are added to the adjustment holding the horizontal control very loose and the vertical control very tight. Since horizontal control errors can affect the vertical control but not vice-versa, we can detect errors in the vertical control. The horizontal control is then tightened and the effects on the vertical control and the photogrammetric residuals are inspected. The final adjustment makes sure that all of the measurements are in balance with each other and properly represent the actual conditions.<\/SPAN><\/SPAN><\/P> Orthophoto Processing: Utilizing all four bands [blue (B), green (G), red(R), and infrared [I]] digital orthorectification was performed using bilinear interpolation algorithms resulting in a spatial and radiometric transformation of the digital image from line/sample space into NAD83 (2011), State Plane California II FIPS 0402, US survey feet. The interior and exterior orientation parameters from the aerotriangulation process were used to project each pixel into the ground coordinate system, while the ortho grade DTM was used to correct for relief displacement. Radiometric correction software and techniques were used to create orthophoto files that minimize the appearance of image seams and without loss of feature signature. Orthophotos are checked for geometric accuracy, image quality, and are tonally balanced to produce a uniform contrast and tone across the entire project. The individual overlapping orthophoto frames were mosaiced together.<\/SPAN><\/SPAN><\/P> <\/P><\/DIV><\/DIV><\/DIV>",
"extent": {
"xmin": 6289117,
"ymin": 1843402,
"xmax": 6455017,
"ymax": 2061802,
"spatialReference": {
"wkid": 102642,
"latestWkid": 2226
}
},
"initialExtent": {
"xmin": 6289117,
"ymin": 1843402,
"xmax": 6455017,
"ymax": 2061802,
"spatialReference": {
"wkid": 102642,
"latestWkid": 2226
}
},
"fullExtent": {
"xmin": 6289117,
"ymin": 1843402,
"xmax": 6455017,
"ymax": 2061802,
"spatialReference": {
"wkid": 102642,
"latestWkid": 2226
}
},
"pixelSizeX": 1,
"pixelSizeY": 1,
"bandCount": 4,
"pixelType": "U8",
"minPixelSize": 0,
"maxPixelSize": 0,
"copyrightText": "Sonoma County Ag + Open Space, NASA, Quantum Spatial, Tukman Geospatial",
"serviceDataType": "esriImageServiceDataTypeGeneric",
"minValues": [
0,
0,
0,
0
],
"maxValues": [
226,
226,
219,
231
],
"meanValues": [
107.10413949984063,
99.35536381813439,
87.93444463763076,
166.3983526036686
],
"stdvValues": [
29.590557634683442,
24.19351615750948,
20.859753611884976,
27.333199295308347
],
"objectIdField": "OBJECTID",
"fields": [
{
"name": "OBJECTID",
"type": "esriFieldTypeOID",
"alias": "OBJECTID",
"domain": null
},
{
"name": "Shape",
"type": "esriFieldTypeGeometry",
"alias": "Shape",
"domain": null
},
{
"name": "Name",
"type": "esriFieldTypeString",
"alias": "Name",
"domain": null,
"length": 200
},
{
"name": "MinPS",
"type": "esriFieldTypeDouble",
"alias": "MinPS",
"domain": null
},
{
"name": "MaxPS",
"type": "esriFieldTypeDouble",
"alias": "MaxPS",
"domain": null
},
{
"name": "LowPS",
"type": "esriFieldTypeDouble",
"alias": "LowPS",
"domain": null
},
{
"name": "HighPS",
"type": "esriFieldTypeDouble",
"alias": "HighPS",
"domain": null
},
{
"name": "Category",
"type": "esriFieldTypeInteger",
"alias": "Category",
"domain": {
"type": "codedValue",
"name": "MosaicCatalogItemCategoryDomain",
"codedValues": [
{
"name": "Unknown",
"code": 0
},
{
"name": "Primary",
"code": 1
},
{
"name": "Overview",
"code": 2
},
{
"name": "Unprocessed Overview",
"code": 3
},
{
"name": "Partial Overview",
"code": 4
},
{
"name": "Uploaded",
"code": 253
},
{
"name": "Incomplete",
"code": 254
},
{
"name": "Custom",
"code": 255
}
]
}
},
{
"name": "Tag",
"type": "esriFieldTypeString",
"alias": "Tag",
"domain": null,
"length": 100
},
{
"name": "GroupName",
"type": "esriFieldTypeString",
"alias": "GroupName",
"domain": null,
"length": 100
},
{
"name": "ProductName",
"type": "esriFieldTypeString",
"alias": "ProductName",
"domain": null,
"length": 100
},
{
"name": "CenterX",
"type": "esriFieldTypeDouble",
"alias": "CenterX",
"domain": null
},
{
"name": "CenterY",
"type": "esriFieldTypeDouble",
"alias": "CenterY",
"domain": null
},
{
"name": "ZOrder",
"type": "esriFieldTypeInteger",
"alias": "ZOrder",
"domain": null
},
{
"name": "Shape_Length",
"type": "esriFieldTypeDouble",
"alias": "Shape_Length",
"domain": null
},
{
"name": "Shape_Area",
"type": "esriFieldTypeDouble",
"alias": "Shape_Area",
"domain": null
}
],
"capabilities": "Catalog,Download,Image,Mensuration,Metadata,Pixels",
"defaultMosaicMethod": "Northwest",
"allowedMosaicMethods": "NorthWest,Center,LockRaster,ByAttribute,Nadir,Viewpoint,Seamline,None",
"sortField": "",
"sortValue": null,
"mosaicOperator": "First",
"defaultCompressionQuality": 75,
"defaultResamplingMethod": "Bilinear",
"maxImageHeight": 4100,
"maxImageWidth": 15000,
"maxRecordCount": 1000,
"maxDownloadImageCount": 20,
"maxDownloadSizeLimit": 2048,
"maxMosaicImageCount": 20,
"allowRasterFunction": true,
"rasterFunctionInfos": [],
"rasterTypeInfos": [
{
"name": "Raster Dataset",
"description": "Supports all ArcGIS Raster Datasets",
"help": ""
}
],
"mensurationCapabilities": "Basic",
"hasHistograms": true,
"hasColormap": false,
"hasRasterAttributeTable": false,
"minScale": 0,
"maxScale": 0,
"exportTilesAllowed": false,
"hasMultidimensions": false,
"supportsStatistics": true,
"supportsAdvancedQueries": true,
"editFieldsInfo": null,
"ownershipBasedAccessControlForRasters": null,
"allowComputeTiePoints": false,
"useStandardizedQueries": true,
"advancedQueryCapabilities": {
"useStandardizedQueries": true,
"supportsStatistics": true,
"supportsOrderBy": true,
"supportsDistinct": true,
"supportsPagination": true
},
"spatialReference": {
"wkid": 102642,
"latestWkid": 2226
}
}