{
 "currentVersion": 10.41,
 "serviceDescription": "The water depth digital elevation model (DEM) represents the difference between water surface elevation models and bare earth (all vegetation and man-made structures removed) digital elevation models. The water surface elevations were estimated using HEC RAS 5.0.1 hydrologic modeling software. Each pixel is three feet by three feet and represents an average height above ground for that area. QSI collected the LiDAR and created this data set for the Russian River Modeling and Buildings study area. The projection is CASP 2 with horizontal datum NAD83(2011), vertical datum NAVD88 (Geoid 12A), and the units are US Survey Feet. See Process Steps for derivation of raster datasets.",
 "name": "Projects/Guerneville_Gauge_at_40_ft_Flood_Stage",
 "description": "The water depth digital elevation model (DEM) represents the difference between water surface elevation models and bare earth (all vegetation and man-made structures removed) digital elevation models. The water surface elevations were estimated using HEC RAS 5.0.1 hydrologic modeling software. Each pixel is three feet by three feet and represents an average height above ground for that area. QSI collected the LiDAR and created this data set for the Russian River Modeling and Buildings study area. The projection is CASP 2 with horizontal datum NAD83(2011), vertical datum NAVD88 (Geoid 12A), and the units are US Survey Feet. See Process Steps for derivation of raster datasets.",
 "extent": {
  "xmin": 6236126.396389392,
  "ymin": 1919959.543629255,
  "xmax": 6341516.396389392,
  "ymax": 2075767.543629255,
  "spatialReference": {
   "wkt": "PROJCS[\"NAD_1983_StatePlane_California_II_FIPS_0402_USFeet_2011\",GEOGCS[\"GCS_NAD_1983_2011\",DATUM[\"D_NAD_1983_2011\",SPHEROID[\"GRS_1980\",6378137.0,298.257222101]],PRIMEM[\"Greenwich\",0.0],UNIT[\"Degree\",0.0174532925199433]],PROJECTION[\"Lambert_Conformal_Conic\"],PARAMETER[\"false_easting\",6561666.666666666],PARAMETER[\"false_northing\",1640416.666666667],PARAMETER[\"central_meridian\",-122.0],PARAMETER[\"standard_parallel_1\",38.33333333333334],PARAMETER[\"standard_parallel_2\",39.83333333333334],PARAMETER[\"latitude_of_origin\",37.66666666666666],UNIT[\"Foot_US\",0.3048006096012192]]"
  }
 },
 "initialExtent": {
  "xmin": 6236126.396389392,
  "ymin": 1919959.543629255,
  "xmax": 6341516.396389392,
  "ymax": 2075767.543629255,
  "spatialReference": {
   "wkt": "PROJCS[\"NAD_1983_StatePlane_California_II_FIPS_0402_USFeet_2011\",GEOGCS[\"GCS_NAD_1983_2011\",DATUM[\"D_NAD_1983_2011\",SPHEROID[\"GRS_1980\",6378137.0,298.257222101]],PRIMEM[\"Greenwich\",0.0],UNIT[\"Degree\",0.0174532925199433]],PROJECTION[\"Lambert_Conformal_Conic\"],PARAMETER[\"false_easting\",6561666.666666666],PARAMETER[\"false_northing\",1640416.666666667],PARAMETER[\"central_meridian\",-122.0],PARAMETER[\"standard_parallel_1\",38.33333333333334],PARAMETER[\"standard_parallel_2\",39.83333333333334],PARAMETER[\"latitude_of_origin\",37.66666666666666],UNIT[\"Foot_US\",0.3048006096012192]]"
  }
 },
 "fullExtent": {
  "xmin": 6236126.396389392,
  "ymin": 1919959.543629255,
  "xmax": 6341516.396389392,
  "ymax": 2075767.543629255,
  "spatialReference": {
   "wkt": "PROJCS[\"NAD_1983_StatePlane_California_II_FIPS_0402_USFeet_2011\",GEOGCS[\"GCS_NAD_1983_2011\",DATUM[\"D_NAD_1983_2011\",SPHEROID[\"GRS_1980\",6378137.0,298.257222101]],PRIMEM[\"Greenwich\",0.0],UNIT[\"Degree\",0.0174532925199433]],PROJECTION[\"Lambert_Conformal_Conic\"],PARAMETER[\"false_easting\",6561666.666666666],PARAMETER[\"false_northing\",1640416.666666667],PARAMETER[\"central_meridian\",-122.0],PARAMETER[\"standard_parallel_1\",38.33333333333334],PARAMETER[\"standard_parallel_2\",39.83333333333334],PARAMETER[\"latitude_of_origin\",37.66666666666666],UNIT[\"Foot_US\",0.3048006096012192]]"
  }
 },
 "pixelSizeX": 3,
 "pixelSizeY": 3,
 "bandCount": 1,
 "pixelType": "F32",
 "minPixelSize": 0,
 "maxPixelSize": 0,
 "copyrightText": "County of Sonoma, QSI",
 "serviceDataType": "esriImageServiceDataTypeGeneric",
 "minValues": [
  0.001003265380859375
 ],
 "maxValues": [
  40.4078369140625
 ],
 "meanValues": [
  10.059403835561342
 ],
 "stdvValues": [
  9.345484223971466
 ],
 "objectIdField": "",
 "fields": [],
 "capabilities": "Mensuration,Image,Metadata",
 "defaultMosaicMethod": "Center",
 "allowedMosaicMethods": "",
 "sortField": "",
 "sortValue": null,
 "mosaicOperator": "First",
 "defaultCompressionQuality": 75,
 "defaultResamplingMethod": "Bilinear",
 "maxImageHeight": 4100,
 "maxImageWidth": 15000,
 "allowRasterFunction": true,
 "rasterFunctionInfos": [
  {
   "name": "Classified",
   "description": "A raster function template.",
   "help": ""
  },
  {
   "name": "None",
   "description": "",
   "help": ""
  }
 ],
 "rasterTypeInfos": [
  {
   "name": "Raster Dataset",
   "description": "Supports all ArcGIS Raster Datasets",
   "help": ""
  }
 ],
 "mensurationCapabilities": "Basic",
 "hasHistograms": true,
 "hasColormap": false,
 "hasRasterAttributeTable": false,
 "minScale": 0,
 "maxScale": 0,
 "exportTilesAllowed": false,
 "hasMultidimensions": false,
 "supportsStatistics": false,
 "supportsAdvancedQueries": false,
 "editFieldsInfo": null,
 "ownershipBasedAccessControlForRasters": null,
 "allowComputeTiePoints": false,
 "useStandardizedQueries": true,
 "advancedQueryCapabilities": {
  "useStandardizedQueries": true,
  "supportsStatistics": false,
  "supportsOrderBy": false,
  "supportsDistinct": false,
  "supportsPagination": false
 },
 "spatialReference": {
  "wkt": "PROJCS[\"NAD_1983_StatePlane_California_II_FIPS_0402_USFeet_2011\",GEOGCS[\"GCS_NAD_1983_2011\",DATUM[\"D_NAD_1983_2011\",SPHEROID[\"GRS_1980\",6378137.0,298.257222101]],PRIMEM[\"Greenwich\",0.0],UNIT[\"Degree\",0.0174532925199433]],PROJECTION[\"Lambert_Conformal_Conic\"],PARAMETER[\"false_easting\",6561666.666666666],PARAMETER[\"false_northing\",1640416.666666667],PARAMETER[\"central_meridian\",-122.0],PARAMETER[\"standard_parallel_1\",38.33333333333334],PARAMETER[\"standard_parallel_2\",39.83333333333334],PARAMETER[\"latitude_of_origin\",37.66666666666666],UNIT[\"Foot_US\",0.3048006096012192]]"
 }
}
