{
 "currentVersion": 10.41,
 "serviceDescription": "Sonoma County 2011 Orthoimagery Project\n\nArea of Coverage: Approximately 1,600 square miles at 6\u201d resolution; approximately 25 square miles at the 3\u201d resolution (portions of Santa Rosa and Windor)\n\nImagery Type: 4-band for both the 6\u201d and 3\u201d collection areas\n\nAcquisition Conditions: Spring 2011 leaf-off to the extent possible, snow-free, free from clouds, smoke, haze, light streaks, flooding, and excessive soil moisture\n\nSun angle: Greater than 30 degrees over entire project.\n\nResolution: Six-inch and three-inch Ground Sample Distance (pixel resolution)\n\nHorizontal Accuracy: ASPRS Class 1 standard for 3\u201d-inch/7.6-cm pixel size and scale and 6\u201d/15-cm pixel size.\n\nProjection: State Plane zone 2 feet projection and coordinate system (meters) using horizontal datum NAD83\n\nDatum: Vertical datum be NAVD (1988).\n\n",
 "name": "SONOMA_2011_ALL",
 "description": "Sonoma County 2011 Orthoimagery Project\n\nArea of Coverage: Approximately 1,600 square miles at 6\u201d resolution; approximately 25 square miles at the 3\u201d resolution (portions of Santa Rosa and Windor)\n\nImagery Type: 4-band for both the 6\u201d and 3\u201d collection areas\n\nAcquisition Conditions: Spring 2011 leaf-off to the extent possible, snow-free, free from clouds, smoke, haze, light streaks, flooding, and excessive soil moisture\n\nSun angle: Greater than 30 degrees over entire project.\n\nResolution: Six-inch and three-inch Ground Sample Distance (pixel resolution)\n\nHorizontal Accuracy: ASPRS Class 1 standard for 3\u201d-inch/7.6-cm pixel size and scale and 6\u201d/15-cm pixel size.\n\nProjection: State Plane zone 2 feet projection and coordinate system (meters) using horizontal datum NAD83\n\nDatum: Vertical datum be NAVD (1988).\n\n",
 "extent": {
  "xmin": 6122500,
  "ymin": 1785000,
  "xmax": 6462500,
  "ymax": 2075000,
  "spatialReference": {
   "wkid": 102642,
   "latestWkid": 2226
  }
 },
 "initialExtent": {
  "xmin": 6122500,
  "ymin": 1785000,
  "xmax": 6462500,
  "ymax": 2075000,
  "spatialReference": {
   "wkid": 102642,
   "latestWkid": 2226
  }
 },
 "fullExtent": {
  "xmin": 6122500,
  "ymin": 1785000,
  "xmax": 6462500,
  "ymax": 2075000,
  "spatialReference": {
   "wkid": 102642,
   "latestWkid": 2226
  }
 },
 "pixelSizeX": 0.5,
 "pixelSizeY": 0.5,
 "bandCount": 4,
 "pixelType": "U8",
 "minPixelSize": 0,
 "maxPixelSize": 0,
 "copyrightText": "Sonoma County Vegetation Mapping and LiDAR Consortium, USGS, Tukman Geospatial LLC",
 "serviceDataType": "esriImageServiceDataTypeGeneric",
 "minValues": [
  0,
  0,
  0,
  0
 ],
 "maxValues": [
  255,
  255,
  251,
  253
 ],
 "meanValues": [
  66.6221336118768,
  80.83463035431662,
  48.67304901277387,
  136.4304301674439
 ],
 "stdvValues": [
  42.098564752207025,
  41.94221031826049,
  30.76592142619155,
  50.922577715163236
 ],
 "objectIdField": "OBJECTID",
 "fields": [
  {
   "name": "OBJECTID",
   "type": "esriFieldTypeOID",
   "alias": "OBJECTID",
   "domain": null
  },
  {
   "name": "Shape",
   "type": "esriFieldTypeGeometry",
   "alias": "Shape",
   "domain": null
  },
  {
   "name": "Name",
   "type": "esriFieldTypeString",
   "alias": "Name",
   "domain": null,
   "length": 50
  },
  {
   "name": "MinPS",
   "type": "esriFieldTypeDouble",
   "alias": "MinPS",
   "domain": null
  },
  {
   "name": "MaxPS",
   "type": "esriFieldTypeDouble",
   "alias": "MaxPS",
   "domain": null
  },
  {
   "name": "LowPS",
   "type": "esriFieldTypeDouble",
   "alias": "LowPS",
   "domain": null
  },
  {
   "name": "HighPS",
   "type": "esriFieldTypeDouble",
   "alias": "HighPS",
   "domain": null
  },
  {
   "name": "Category",
   "type": "esriFieldTypeInteger",
   "alias": "Category",
   "domain": {
    "type": "codedValue",
    "name": "MosaicCatalogItemCategoryDomain",
    "codedValues": [
     {
      "name": "Unknown",
      "code": 0
     },
     {
      "name": "Primary",
      "code": 1
     },
     {
      "name": "Overview",
      "code": 2
     },
     {
      "name": "Unprocessed Overview",
      "code": 3
     },
     {
      "name": "Partial Overview",
      "code": 4
     },
     {
      "name": "Uploaded",
      "code": 253
     },
     {
      "name": "Incomplete",
      "code": 254
     },
     {
      "name": "Custom",
      "code": 255
     }
    ]
   }
  },
  {
   "name": "Tag",
   "type": "esriFieldTypeString",
   "alias": "Tag",
   "domain": null,
   "length": 20
  },
  {
   "name": "GroupName",
   "type": "esriFieldTypeString",
   "alias": "GroupName",
   "domain": null,
   "length": 50
  },
  {
   "name": "ProductName",
   "type": "esriFieldTypeString",
   "alias": "ProductName",
   "domain": null,
   "length": 50
  },
  {
   "name": "CenterX",
   "type": "esriFieldTypeDouble",
   "alias": "CenterX",
   "domain": null
  },
  {
   "name": "CenterY",
   "type": "esriFieldTypeDouble",
   "alias": "CenterY",
   "domain": null
  },
  {
   "name": "ZOrder",
   "type": "esriFieldTypeInteger",
   "alias": "ZOrder",
   "domain": null
  },
  {
   "name": "Shape_Length",
   "type": "esriFieldTypeDouble",
   "alias": "Shape_Length",
   "domain": null
  },
  {
   "name": "Shape_Area",
   "type": "esriFieldTypeDouble",
   "alias": "Shape_Area",
   "domain": null
  }
 ],
 "capabilities": "Catalog,Download,Image,Mensuration,Metadata,Pixels",
 "defaultMosaicMethod": "Northwest",
 "allowedMosaicMethods": "NorthWest,Center,LockRaster,ByAttribute,Nadir,Viewpoint,Seamline,None",
 "sortField": "",
 "sortValue": null,
 "mosaicOperator": "First",
 "defaultCompressionQuality": 75,
 "defaultResamplingMethod": "Nearest",
 "maxImageHeight": 4100,
 "maxImageWidth": 15000,
 "maxRecordCount": 1000,
 "maxDownloadImageCount": 20,
 "maxDownloadSizeLimit": 2048,
 "maxMosaicImageCount": 20,
 "allowRasterFunction": true,
 "rasterFunctionInfos": [
  {
   "name": "None",
   "description": "A No-Op Function.",
   "help": ""
  }
 ],
 "rasterTypeInfos": [
  {
   "name": "Raster Dataset",
   "description": "Supports all ArcGIS Raster Datasets",
   "help": ""
  }
 ],
 "mensurationCapabilities": "None,Basic",
 "hasHistograms": true,
 "hasColormap": false,
 "hasRasterAttributeTable": false,
 "minScale": 0,
 "maxScale": 0,
 "exportTilesAllowed": false,
 "hasMultidimensions": false,
 "supportsStatistics": true,
 "supportsAdvancedQueries": true,
 "editFieldsInfo": null,
 "ownershipBasedAccessControlForRasters": null,
 "allowComputeTiePoints": false,
 "useStandardizedQueries": true,
 "advancedQueryCapabilities": {
  "useStandardizedQueries": true,
  "supportsStatistics": true,
  "supportsOrderBy": true,
  "supportsDistinct": true,
  "supportsPagination": true
 },
 "spatialReference": {
  "wkid": 102642,
  "latestWkid": 2226
 }
}
