{
 "currentVersion": 10.41,
 "serviceDescription": "This intensity image depicts intensity values in their native radiometric resolution; intensities measure the magnitude (strength) of a return pulse. Objects with higher reflectivity will produce a higher intensity than dark objects. The return pulse amplitude is represented in 8-bit, with values ranging from 0-255. Each image corresponds to a 37,800-square-foot tile. Each pixel is 3 feet and represents an average intensity for that area. The specified coordinate system for this dataset is California State Plane Zone II (FIPS 0402), NAD83 (2011), with units in US Survey Feet for horizontal, and vertical units are NAVD88 (12A) US Survey Feet. The dataset encompasses all of Sonoma County and parts of Mendocino County. WSI collected the LiDAR and created this data set for the Sonoma County Vegetation Mapping and LiDAR Program.",
 "name": "SONOMA_INTENSITY_Vegetation",
 "description": "This intensity image depicts intensity values in their native radiometric resolution; intensities measure the magnitude (strength) of a return pulse. Objects with higher reflectivity will produce a higher intensity than dark objects. The return pulse amplitude is represented in 8-bit, with values ranging from 0-255. Each image corresponds to a 37,800-square-foot tile. Each pixel is 3 feet and represents an average intensity for that area. The specified coordinate system for this dataset is California State Plane Zone II (FIPS 0402), NAD83 (2011), with units in US Survey Feet for horizontal, and vertical units are NAVD88 (12A) US Survey Feet. The dataset encompasses all of Sonoma County and parts of Mendocino County. WSI collected the LiDAR and created this data set for the Sonoma County Vegetation Mapping and LiDAR Program.",
 "extent": {
  "xmin": 6119016.999999997,
  "ymin": 1797201.9999999935,
  "xmax": 6497016.999999997,
  "ymax": 2250801.9999999935,
  "spatialReference": {
   "wkt": "PROJCS[\"NAD_1983_StatePlane_California_II_FIPS_0402_Feet_2011\",GEOGCS[\"GCS_NAD_1983_2011\",DATUM[\"D_NAD_1983_2011\",SPHEROID[\"GRS_1980\",6378137.0,298.257222101]],PRIMEM[\"Greenwich\",0.0],UNIT[\"Degree\",0.0174532925199433]],PROJECTION[\"Lambert_Conformal_Conic\"],PARAMETER[\"false_easting\",6561666.666666666],PARAMETER[\"false_northing\",1640416.666666667],PARAMETER[\"central_meridian\",-122.0],PARAMETER[\"standard_parallel_1\",38.33333333333334],PARAMETER[\"standard_parallel_2\",39.83333333333334],PARAMETER[\"latitude_of_origin\",37.66666666666666],UNIT[\"Foot_US\",0.3048006096012192]]"
  }
 },
 "initialExtent": {
  "xmin": 6119016.999999997,
  "ymin": 1797201.9999999935,
  "xmax": 6497016.999999997,
  "ymax": 2250801.9999999935,
  "spatialReference": {
   "wkt": "PROJCS[\"NAD_1983_StatePlane_California_II_FIPS_0402_Feet_2011\",GEOGCS[\"GCS_NAD_1983_2011\",DATUM[\"D_NAD_1983_2011\",SPHEROID[\"GRS_1980\",6378137.0,298.257222101]],PRIMEM[\"Greenwich\",0.0],UNIT[\"Degree\",0.0174532925199433]],PROJECTION[\"Lambert_Conformal_Conic\"],PARAMETER[\"false_easting\",6561666.666666666],PARAMETER[\"false_northing\",1640416.666666667],PARAMETER[\"central_meridian\",-122.0],PARAMETER[\"standard_parallel_1\",38.33333333333334],PARAMETER[\"standard_parallel_2\",39.83333333333334],PARAMETER[\"latitude_of_origin\",37.66666666666666],UNIT[\"Foot_US\",0.3048006096012192]]"
  }
 },
 "fullExtent": {
  "xmin": 6119016.999999997,
  "ymin": 1797201.9999999935,
  "xmax": 6497016.999999997,
  "ymax": 2250801.9999999935,
  "spatialReference": {
   "wkt": "PROJCS[\"NAD_1983_StatePlane_California_II_FIPS_0402_Feet_2011\",GEOGCS[\"GCS_NAD_1983_2011\",DATUM[\"D_NAD_1983_2011\",SPHEROID[\"GRS_1980\",6378137.0,298.257222101]],PRIMEM[\"Greenwich\",0.0],UNIT[\"Degree\",0.0174532925199433]],PROJECTION[\"Lambert_Conformal_Conic\"],PARAMETER[\"false_easting\",6561666.666666666],PARAMETER[\"false_northing\",1640416.666666667],PARAMETER[\"central_meridian\",-122.0],PARAMETER[\"standard_parallel_1\",38.33333333333334],PARAMETER[\"standard_parallel_2\",39.83333333333334],PARAMETER[\"latitude_of_origin\",37.66666666666666],UNIT[\"Foot_US\",0.3048006096012192]]"
  }
 },
 "pixelSizeX": 3,
 "pixelSizeY": 3,
 "bandCount": 1,
 "pixelType": "U8",
 "minPixelSize": 0,
 "maxPixelSize": 0,
 "copyrightText": "Sonoma County Vegetation Mapping and LiDAR Consortium, NASA, University of Maryland, Watershed Sciences, Inc., Tukman Geospatial LLC",
 "serviceDataType": "esriImageServiceDataTypeGeneric",
 "minValues": [
  0
 ],
 "maxValues": [
  255
 ],
 "meanValues": [
  107.55013905912658
 ],
 "stdvValues": [
  32.297623573540235
 ],
 "objectIdField": "OBJECTID",
 "fields": [
  {
   "name": "OBJECTID",
   "type": "esriFieldTypeOID",
   "alias": "OBJECTID",
   "domain": null
  },
  {
   "name": "Shape",
   "type": "esriFieldTypeGeometry",
   "alias": "Shape",
   "domain": null
  },
  {
   "name": "Name",
   "type": "esriFieldTypeString",
   "alias": "Name",
   "domain": null,
   "length": 50
  },
  {
   "name": "MinPS",
   "type": "esriFieldTypeDouble",
   "alias": "MinPS",
   "domain": null
  },
  {
   "name": "MaxPS",
   "type": "esriFieldTypeDouble",
   "alias": "MaxPS",
   "domain": null
  },
  {
   "name": "LowPS",
   "type": "esriFieldTypeDouble",
   "alias": "LowPS",
   "domain": null
  },
  {
   "name": "HighPS",
   "type": "esriFieldTypeDouble",
   "alias": "HighPS",
   "domain": null
  },
  {
   "name": "Category",
   "type": "esriFieldTypeInteger",
   "alias": "Category",
   "domain": {
    "type": "codedValue",
    "name": "MosaicCatalogItemCategoryDomain",
    "codedValues": [
     {
      "name": "Unknown",
      "code": 0
     },
     {
      "name": "Primary",
      "code": 1
     },
     {
      "name": "Overview",
      "code": 2
     },
     {
      "name": "Unprocessed Overview",
      "code": 3
     },
     {
      "name": "Partial Overview",
      "code": 4
     },
     {
      "name": "Uploaded",
      "code": 253
     },
     {
      "name": "Incomplete",
      "code": 254
     },
     {
      "name": "Custom",
      "code": 255
     }
    ]
   }
  },
  {
   "name": "Tag",
   "type": "esriFieldTypeString",
   "alias": "Tag",
   "domain": null,
   "length": 20
  },
  {
   "name": "GroupName",
   "type": "esriFieldTypeString",
   "alias": "GroupName",
   "domain": null,
   "length": 50
  },
  {
   "name": "ProductName",
   "type": "esriFieldTypeString",
   "alias": "ProductName",
   "domain": null,
   "length": 50
  },
  {
   "name": "CenterX",
   "type": "esriFieldTypeDouble",
   "alias": "CenterX",
   "domain": null
  },
  {
   "name": "CenterY",
   "type": "esriFieldTypeDouble",
   "alias": "CenterY",
   "domain": null
  },
  {
   "name": "ZOrder",
   "type": "esriFieldTypeInteger",
   "alias": "ZOrder",
   "domain": null
  },
  {
   "name": "Shape_Length",
   "type": "esriFieldTypeDouble",
   "alias": "Shape_Length",
   "domain": null
  },
  {
   "name": "Shape_Area",
   "type": "esriFieldTypeDouble",
   "alias": "Shape_Area",
   "domain": null
  }
 ],
 "capabilities": "Catalog,Download,Image,Mensuration,Metadata,Pixels",
 "defaultMosaicMethod": "Northwest",
 "allowedMosaicMethods": "NorthWest,Center,LockRaster,ByAttribute,Nadir,Viewpoint,Seamline,None",
 "sortField": "",
 "sortValue": null,
 "mosaicOperator": "First",
 "defaultCompressionQuality": 75,
 "defaultResamplingMethod": "Nearest",
 "maxImageHeight": 4100,
 "maxImageWidth": 15000,
 "maxRecordCount": 1000,
 "maxDownloadImageCount": 20,
 "maxDownloadSizeLimit": 2048,
 "maxMosaicImageCount": 20,
 "allowRasterFunction": true,
 "rasterFunctionInfos": [],
 "rasterTypeInfos": [
  {
   "name": "Raster Dataset",
   "description": "Supports all ArcGIS Raster Datasets",
   "help": ""
  }
 ],
 "mensurationCapabilities": "Basic",
 "hasHistograms": true,
 "hasColormap": false,
 "hasRasterAttributeTable": false,
 "minScale": 0,
 "maxScale": 0,
 "exportTilesAllowed": false,
 "hasMultidimensions": false,
 "supportsStatistics": true,
 "supportsAdvancedQueries": true,
 "editFieldsInfo": null,
 "ownershipBasedAccessControlForRasters": null,
 "allowComputeTiePoints": false,
 "useStandardizedQueries": true,
 "advancedQueryCapabilities": {
  "useStandardizedQueries": true,
  "supportsStatistics": true,
  "supportsOrderBy": true,
  "supportsDistinct": true,
  "supportsPagination": true
 },
 "spatialReference": {
  "wkt": "PROJCS[\"NAD_1983_StatePlane_California_II_FIPS_0402_Feet_2011\",GEOGCS[\"GCS_NAD_1983_2011\",DATUM[\"D_NAD_1983_2011\",SPHEROID[\"GRS_1980\",6378137.0,298.257222101]],PRIMEM[\"Greenwich\",0.0],UNIT[\"Degree\",0.0174532925199433]],PROJECTION[\"Lambert_Conformal_Conic\"],PARAMETER[\"false_easting\",6561666.666666666],PARAMETER[\"false_northing\",1640416.666666667],PARAMETER[\"central_meridian\",-122.0],PARAMETER[\"standard_parallel_1\",38.33333333333334],PARAMETER[\"standard_parallel_2\",39.83333333333334],PARAMETER[\"latitude_of_origin\",37.66666666666666],UNIT[\"Foot_US\",0.3048006096012192]]"
 }
}
