{
 "currentVersion": 10.41,
 "serviceDescription": "This wildfire hazard potential (WHP) dataset represents an index that quantifies the relative potential for wildfire that may be difficult to control. \n\nWHP can be used as a measure to help prioritize where fuel treatments may be needed.\n\nCAL WHP was calculated by following the methods established by Dillon et al. (2015) and Dillon (2018) while using higher-resolution inputs including 30-m CAL vegetation inputs (derived from LANDFIRE 2016), 30-m CAL fuel model outputs, 30-m CAL burn probability results, and 30-m CAL fire-effects flame-length probabilities from the WildEST wildfire behavior results. \n\nPlease reference the CAL report for more detailed information. Raster resolution is 30m. Data finalized 1/31/2021.\n\nAdditional information on the WHP can be found in the following references:\n\nDillon, Gregory K.; Menakis, James; Fay, Frank. 2015. Wildland fire potential: A tool for assessing wildfire risk and fuels management needs. In: Keane, Robert E.; Jolly, Matt; Parsons, Russell; Riley, Karin. Proceedings of the large wildland fires conference; May 19-23, 2014; Missoula, MT. Proc. RMRS-P-73. Fort Collins, CO: U.S. Department of Agriculture, Forest Service, Rocky Mountain Research Station. p. 60-76. https://www.fs.usda.gov/treesearch/pubs/49429\n\nDillon, Gregory K. 2018. Wildfire Hazard Potential (WHP) for the conterminous United States (270-m GRID), version 2018 continuous. 2nd Edition. Fort Collins, CO: Forest Service Research Data Archive. https://doi.org/10.2737/RDS-2015-0047-2",
 "name": "Wildfire_Hazard_Potential",
 "description": "This wildfire hazard potential (WHP) dataset represents an index that quantifies the relative potential for wildfire that may be difficult to control. \n\nWHP can be used as a measure to help prioritize where fuel treatments may be needed.\n\nCAL WHP was calculated by following the methods established by Dillon et al. (2015) and Dillon (2018) while using higher-resolution inputs including 30-m CAL vegetation inputs (derived from LANDFIRE 2016), 30-m CAL fuel model outputs, 30-m CAL burn probability results, and 30-m CAL fire-effects flame-length probabilities from the WildEST wildfire behavior results. \n\nPlease reference the CAL report for more detailed information. Raster resolution is 30m. Data finalized 1/31/2021.\n\nAdditional information on the WHP can be found in the following references:\n\nDillon, Gregory K.; Menakis, James; Fay, Frank. 2015. Wildland fire potential: A tool for assessing wildfire risk and fuels management needs. In: Keane, Robert E.; Jolly, Matt; Parsons, Russell; Riley, Karin. Proceedings of the large wildland fires conference; May 19-23, 2014; Missoula, MT. Proc. RMRS-P-73. Fort Collins, CO: U.S. Department of Agriculture, Forest Service, Rocky Mountain Research Station. p. 60-76. https://www.fs.usda.gov/treesearch/pubs/49429\n\nDillon, Gregory K. 2018. Wildfire Hazard Potential (WHP) for the conterminous United States (270-m GRID), version 2018 continuous. 2nd Edition. Fort Collins, CO: Forest Service Research Data Archive. https://doi.org/10.2737/RDS-2015-0047-2",
 "extent": {
  "xmin": -380651.3456999995,
  "ymin": -615045.2059000004,
  "xmax": 550038.6543000005,
  "ymax": 460454.7940999996,
  "spatialReference": {
   "wkid": 3310,
   "latestWkid": 3310
  }
 },
 "initialExtent": {
  "xmin": -380651.3456999995,
  "ymin": -615045.2059000004,
  "xmax": 550038.6543000005,
  "ymax": 460454.7940999996,
  "spatialReference": {
   "wkid": 3310,
   "latestWkid": 3310
  }
 },
 "fullExtent": {
  "xmin": -380651.3456999995,
  "ymin": -615045.2059000004,
  "xmax": 550038.6543000005,
  "ymax": 460454.7940999996,
  "spatialReference": {
   "wkid": 3310,
   "latestWkid": 3310
  }
 },
 "pixelSizeX": 30,
 "pixelSizeY": 30,
 "bandCount": 3,
 "pixelType": "U8",
 "minPixelSize": 0,
 "maxPixelSize": 0,
 "copyrightText": "USDA Forest Service, Pyrologix",
 "serviceDataType": "esriImageServiceDataTypeRGB",
 "minValues": [],
 "maxValues": [],
 "meanValues": [],
 "stdvValues": [],
 "objectIdField": "",
 "fields": [],
 "capabilities": "Image,Metadata",
 "defaultMosaicMethod": "Center",
 "allowedMosaicMethods": "",
 "sortField": "",
 "sortValue": null,
 "mosaicOperator": "First",
 "defaultCompressionQuality": 75,
 "defaultResamplingMethod": "Bilinear",
 "maxImageHeight": 4100,
 "maxImageWidth": 15000,
 "allowRasterFunction": true,
 "rasterFunctionInfos": [],
 "rasterTypeInfos": [
  {
   "name": "Raster Dataset",
   "description": "Supports all ArcGIS Raster Datasets",
   "help": ""
  }
 ],
 "mensurationCapabilities": "Basic",
 "hasHistograms": false,
 "hasColormap": false,
 "hasRasterAttributeTable": false,
 "minScale": 0,
 "maxScale": 0,
 "exportTilesAllowed": false,
 "hasMultidimensions": false,
 "supportsStatistics": false,
 "supportsAdvancedQueries": false,
 "editFieldsInfo": null,
 "ownershipBasedAccessControlForRasters": null,
 "allowComputeTiePoints": false,
 "useStandardizedQueries": true,
 "advancedQueryCapabilities": {
  "useStandardizedQueries": true,
  "supportsStatistics": false,
  "supportsOrderBy": false,
  "supportsDistinct": false,
  "supportsPagination": false
 },
 "spatialReference": {
  "wkid": 3310,
  "latestWkid": 3310
 }
}
