View In:
ArcGIS JavaScript
ArcGIS Online map viewer
Google Earth
ArcMap
View Footprint In:
ArcGIS Online map viewer
Service Description: This dataset is a 30-m cell size raster representing annual burn probability (BP) across the analysis area. BP is the probability that a specific geographic location (30-m pixel) will experience a wildland fire during a specified time period (1 year). Estimates of BP were generated with the large-wildfire simulation system, FSim.
CALFSim model results were completed on the calibrated CALfuelscape (derived from LANDFIRE 2016). The fuelscape was updated with disturbances through the end of the 2019 wildfire season (2020compatible). Simulations were completed at 120-mresolution with 10,000iterations.
Name: Burn_Probability
Description: This dataset is a 30-m cell size raster representing annual burn probability (BP) across the analysis area. BP is the probability that a specific geographic location (30-m pixel) will experience a wildland fire during a specified time period (1 year). Estimates of BP were generated with the large-wildfire simulation system, FSim.
CALFSim model results were completed on the calibrated CALfuelscape (derived from LANDFIRE 2016). The fuelscape was updated with disturbances through the end of the 2019 wildfire season (2020compatible). Simulations were completed at 120-mresolution with 10,000iterations.
Single Fused Map Cache: false
Extent:
XMin: -380651.3456999995
YMin: -615045.2059000004
XMax: 550038.6543000005
YMax: 460454.7940999996
Spatial Reference: 3310
(3310)
Initial Extent:
XMin: -380651.3456999995
YMin: -615045.2059000004
XMax: 550038.6543000005
YMax: 460454.7940999996
Spatial Reference: 3310
(3310)
Full Extent:
XMin: -380651.3456999995
YMin: -615045.2059000004
XMax: 550038.6543000005
YMax: 460454.7940999996
Spatial Reference: 3310
(3310)
Pixel Size X: 30.0
Pixel Size Y: 30.0
Band Count: 3
Pixel Type: U8
RasterFunction Infos: N/A
Mensuration Capabilities: Basic
Has Histograms: false
Has Colormap: false
Has Multi Dimensions : false
Rendering Rule:
Min Scale: 0
Max Scale: 0
Copyright Text: Pryologix, USDA Forest Service
Service Data Type: esriImageServiceDataTypeRGB
Min Values: N/A
Max Values: N/A
Mean Values: N/A
Standard Deviation Values: N/A
Object ID Field:
Fields:
None
Default Mosaic Method: Center
Allowed Mosaic Methods:
SortField:
SortValue: null
Mosaic Operator: First
Default Compression Quality: 75
Default Resampling Method: Bilinear
Max Record Count: null
Max Image Height: 4100
Max Image Width: 15000
Max Download Image Count: null
Max Mosaic Image Count: null
Allow Raster Function: true
Allow Compute TiePoints: false
Supports Statistics: false
Supports Advanced Queries: false
Use StandardizedQueries: true
Raster Type Infos:
Name: Raster Dataset
Description: Supports all ArcGIS Raster Datasets
Help:
Has Raster Attribute Table: false
Edit Fields Info: null
Ownership Based AccessControl For Rasters: null
Child Resources:
Info
Key Properties
Legend
MultiDimensionalInfo
rasterFunctionInfos
Supported Operations:
Export Image
Identify
Measure
Compute Histograms
Compute Statistics Histograms
Get Samples
Compute Class Statistics