View In:
ArcGIS JavaScript
ArcGIS Online map viewer
Google Earth
ArcMap
View Footprint In:
ArcGIS Online map viewer
Service Description: Ladder_Fuels_by_Veg
Name: Ladder_Fuels_by_Veg
Description: Ladder_Fuels_by_Veg
Single Fused Map Cache: false
Extent:
XMin: 6123200
YMin: 1801472
XMax: 6462272
YMax: 2075200
Spatial Reference: 102642
(2226)
Initial Extent:
XMin: 6123200
YMin: 1801472
XMax: 6462272
YMax: 2075200
Spatial Reference: 102642
(2226)
Full Extent:
XMin: 6123200
YMin: 1801472
XMax: 6462272
YMax: 2075200
Spatial Reference: 102642
(2226)
Pixel Size X: 64.0
Pixel Size Y: 64.0
Band Count: 3
Pixel Type: U8
RasterFunction Infos: N/A
Mensuration Capabilities: Basic
Has Histograms: false
Has Colormap: false
Has Multi Dimensions : false
Rendering Rule:
Min Scale: 0
Max Scale: 0
Copyright Text: Pepperwood Foundation, the Flora L. Thornton Foundation, Tukman Geospatial LLC, Sonoma Ag + Open Space, NASA
Service Data Type: esriImageServiceDataTypeRGB
Min Values: N/A
Max Values: N/A
Mean Values: N/A
Standard Deviation Values: N/A
Object ID Field:
Fields:
None
Default Mosaic Method: Center
Allowed Mosaic Methods:
SortField:
SortValue: null
Mosaic Operator: First
Default Compression Quality: 75
Default Resampling Method: Nearest
Max Record Count: null
Max Image Height: 4100
Max Image Width: 15000
Max Download Image Count: null
Max Mosaic Image Count: null
Allow Raster Function: true
Allow Compute TiePoints: false
Supports Statistics: false
Supports Advanced Queries: false
Use StandardizedQueries: true
Raster Type Infos:
Name: Raster Dataset
Description: Supports all ArcGIS Raster Datasets
Help:
Has Raster Attribute Table: false
Edit Fields Info: null
Ownership Based AccessControl For Rasters: null
Child Resources:
Info
Key Properties
Legend
MultiDimensionalInfo
rasterFunctionInfos
Supported Operations:
Export Image
Identify
Measure
Compute Histograms
Compute Statistics Histograms
Get Samples
Compute Class Statistics