View In:
ArcGIS JavaScript
ArcGIS Online map viewer
Google Earth
ArcMap
View Footprint In:
ArcGIS Online map viewer
Service Description: Sonoma County 2011 Orthoimagery Project
Area of Coverage: Approximately 1,600 square miles at 6” resolution; approximately 25 square miles at the 3” resolution (portions of Santa Rosa and Windor)
Imagery Type: 4-band for both the 6” and 3” collection areas
Acquisition Conditions: Spring 2011 leaf-off to the extent possible, snow-free, free from clouds, smoke, haze, light streaks, flooding, and excessive soil moisture
Sun angle: Greater than 30 degrees over entire project.
Resolution: Six-inch and three-inch Ground Sample Distance (pixel resolution)
Horizontal Accuracy: ASPRS Class 1 standard for 3”-inch/7.6-cm pixel size and scale and 6”/15-cm pixel size.
Projection: State Plane zone 2 feet projection and coordinate system (meters) using horizontal datum NAD83
Datum: Vertical datum be NAVD (1988).
Name: SONOMA_2011_ALL
Description: Sonoma County 2011 Orthoimagery Project
Area of Coverage: Approximately 1,600 square miles at 6” resolution; approximately 25 square miles at the 3” resolution (portions of Santa Rosa and Windor)
Imagery Type: 4-band for both the 6” and 3” collection areas
Acquisition Conditions: Spring 2011 leaf-off to the extent possible, snow-free, free from clouds, smoke, haze, light streaks, flooding, and excessive soil moisture
Sun angle: Greater than 30 degrees over entire project.
Resolution: Six-inch and three-inch Ground Sample Distance (pixel resolution)
Horizontal Accuracy: ASPRS Class 1 standard for 3”-inch/7.6-cm pixel size and scale and 6”/15-cm pixel size.
Projection: State Plane zone 2 feet projection and coordinate system (meters) using horizontal datum NAD83
Datum: Vertical datum be NAVD (1988).
Single Fused Map Cache: false
Extent:
XMin: 6122500
YMin: 1785000
XMax: 6462500
YMax: 2075000
Spatial Reference: 102642
(2226)
Initial Extent:
XMin: 6122500
YMin: 1785000
XMax: 6462500
YMax: 2075000
Spatial Reference: 102642
(2226)
Full Extent:
XMin: 6122500
YMin: 1785000
XMax: 6462500
YMax: 2075000
Spatial Reference: 102642
(2226)
Pixel Size X: 0.5
Pixel Size Y: 0.5
Band Count: 4
Pixel Type: U8
RasterFunction Infos: {"name":"None","description":"A No-Op Function.","help":""}
Mensuration Capabilities: None,Basic
Has Histograms: true
Has Colormap: false
Has Multi Dimensions : false
Rendering Rule:
Min Scale: 0
Max Scale: 0
Copyright Text: Sonoma County Vegetation Mapping and LiDAR Consortium, USGS, Tukman Geospatial LLC
Service Data Type: esriImageServiceDataTypeGeneric
Min Values: 0, 0, 0, 0
Max Values: 255, 255, 251, 253
Mean Values: 66.6221336118768, 80.83463035431662, 48.67304901277387, 136.4304301674439
Standard Deviation Values: 42.098564752207025, 41.94221031826049, 30.76592142619155, 50.922577715163236
Object ID Field: OBJECTID
Fields:
-
OBJECTID
(
type: esriFieldTypeOID
, alias: OBJECTID
)
-
Shape
(
type: esriFieldTypeGeometry
, alias: Shape
)
-
Name
(
type: esriFieldTypeString
, alias: Name
, length: 50
)
-
MinPS
(
type: esriFieldTypeDouble
, alias: MinPS
)
-
MaxPS
(
type: esriFieldTypeDouble
, alias: MaxPS
)
-
LowPS
(
type: esriFieldTypeDouble
, alias: LowPS
)
-
HighPS
(
type: esriFieldTypeDouble
, alias: HighPS
)
-
Category
(
type: esriFieldTypeInteger
, alias: Category
, Coded Values:
[0: Unknown]
, [1: Primary]
, [2: Overview]
, ...5 more...
)
-
Tag
(
type: esriFieldTypeString
, alias: Tag
, length: 20
)
-
GroupName
(
type: esriFieldTypeString
, alias: GroupName
, length: 50
)
-
ProductName
(
type: esriFieldTypeString
, alias: ProductName
, length: 50
)
-
CenterX
(
type: esriFieldTypeDouble
, alias: CenterX
)
-
CenterY
(
type: esriFieldTypeDouble
, alias: CenterY
)
-
ZOrder
(
type: esriFieldTypeInteger
, alias: ZOrder
)
-
Shape_Length
(
type: esriFieldTypeDouble
, alias: Shape_Length
)
-
Shape_Area
(
type: esriFieldTypeDouble
, alias: Shape_Area
)
Default Mosaic Method: Northwest
Allowed Mosaic Methods: NorthWest,Center,LockRaster,ByAttribute,Nadir,Viewpoint,Seamline,None
SortField:
SortValue: null
Mosaic Operator: First
Default Compression Quality: 75
Default Resampling Method: Nearest
Max Record Count: 1000
Max Image Height: 4100
Max Image Width: 15000
Max Download Image Count: 20
Max Mosaic Image Count: 20
Allow Raster Function: true
Allow Compute TiePoints: false
Supports Statistics: true
Supports Advanced Queries: true
Use StandardizedQueries: true
Raster Type Infos:
Name: Raster Dataset
Description: Supports all ArcGIS Raster Datasets
Help:
Has Raster Attribute Table: false
Edit Fields Info: null
Ownership Based AccessControl For Rasters: null
Child Resources:
Info
Histograms
Key Properties
Legend
MultiDimensionalInfo
rasterFunctionInfos
Supported Operations:
Export Image
Query
Identify
Download Rasters
Measure
Compute Histograms
Compute Statistics Histograms
Get Samples
Compute Class Statistics