View In:
ArcGIS JavaScript
ArcGIS Online map viewer
Google Earth
ArcMap
View Footprint In:
ArcGIS Online map viewer
Service Description: This wildfire hazard potential (WHP) dataset represents an index that quantifies the relative potential for wildfire that may be difficult to control. WHP can be used as a measure to help prioritize where fuel treatments may be needed.
CAL WHP was calculated by following the methods established by Dillon et al. (2015) and Dillon (2018) while using higher-resolution inputs including 30-m CAL vegetation inputs (derived from LANDFIRE 2016), 30-m CAL fuel model outputs, 30-m CAL burn probability results, and 30-m CAL fire-effects flame-length probabilities from the WildEST wildfire behavior results. Please reference the CAL report for more detailed information. Raster resolution is 30m. Data finalized 1/31/2021.
Additional information on the WHP can be found in the following references:
Dillon, Gregory K.; Menakis, James; Fay, Frank. 2015. Wildland fire potential: A tool for assessing wildfire risk and fuels management needs. In: Keane, Robert E.; Jolly, Matt; Parsons, Russell; Riley, Karin. Proceedings of the large wildland fires conference; May 19-23, 2014; Missoula, MT. Proc. RMRS-P-73. Fort Collins, CO: U.S. Department of Agriculture, Forest Service, Rocky Mountain Research Station. p. 60-76. https://www.fs.usda.gov/treesearch/pubs/49429
Dillon, Gregory K. 2018. Wildfire Hazard Potential (WHP) for the conterminous United States (270-m GRID), version 2018 continuous. 2nd Edition. Fort Collins, CO: Forest Service Research Data Archive. https://doi.org/10.2737/RDS-2015-0047-2
Name: Wildfire_Hazard_Potential
Description: This wildfire hazard potential (WHP) dataset represents an index that quantifies the relative potential for wildfire that may be difficult to control. WHP can be used as a measure to help prioritize where fuel treatments may be needed.
CAL WHP was calculated by following the methods established by Dillon et al. (2015) and Dillon (2018) while using higher-resolution inputs including 30-m CAL vegetation inputs (derived from LANDFIRE 2016), 30-m CAL fuel model outputs, 30-m CAL burn probability results, and 30-m CAL fire-effects flame-length probabilities from the WildEST wildfire behavior results. Please reference the CAL report for more detailed information. Raster resolution is 30m. Data finalized 1/31/2021.
Additional information on the WHP can be found in the following references:
Dillon, Gregory K.; Menakis, James; Fay, Frank. 2015. Wildland fire potential: A tool for assessing wildfire risk and fuels management needs. In: Keane, Robert E.; Jolly, Matt; Parsons, Russell; Riley, Karin. Proceedings of the large wildland fires conference; May 19-23, 2014; Missoula, MT. Proc. RMRS-P-73. Fort Collins, CO: U.S. Department of Agriculture, Forest Service, Rocky Mountain Research Station. p. 60-76. https://www.fs.usda.gov/treesearch/pubs/49429
Dillon, Gregory K. 2018. Wildfire Hazard Potential (WHP) for the conterminous United States (270-m GRID), version 2018 continuous. 2nd Edition. Fort Collins, CO: Forest Service Research Data Archive. https://doi.org/10.2737/RDS-2015-0047-2
Single Fused Map Cache: false
Extent:
XMin: -380651.3456999995
YMin: -615045.2059000004
XMax: 550038.6543000005
YMax: 460454.7940999996
Spatial Reference: 3310
(3310)
Initial Extent:
XMin: -380651.3456999995
YMin: -615045.2059000004
XMax: 550038.6543000005
YMax: 460454.7940999996
Spatial Reference: 3310
(3310)
Full Extent:
XMin: -380651.3456999995
YMin: -615045.2059000004
XMax: 550038.6543000005
YMax: 460454.7940999996
Spatial Reference: 3310
(3310)
Pixel Size X: 30.0
Pixel Size Y: 30.0
Band Count: 3
Pixel Type: U8
RasterFunction Infos: N/A
Mensuration Capabilities: Basic
Has Histograms: false
Has Colormap: false
Has Multi Dimensions : false
Rendering Rule:
Min Scale: 0
Max Scale: 0
Copyright Text: USDA Forest Service, Pyrologix
Service Data Type: esriImageServiceDataTypeRGB
Min Values: N/A
Max Values: N/A
Mean Values: N/A
Standard Deviation Values: N/A
Object ID Field:
Fields:
None
Default Mosaic Method: Center
Allowed Mosaic Methods:
SortField:
SortValue: null
Mosaic Operator: First
Default Compression Quality: 75
Default Resampling Method: Bilinear
Max Record Count: null
Max Image Height: 4100
Max Image Width: 15000
Max Download Image Count: null
Max Mosaic Image Count: null
Allow Raster Function: true
Allow Compute TiePoints: false
Supports Statistics: false
Supports Advanced Queries: false
Use StandardizedQueries: true
Raster Type Infos:
Name: Raster Dataset
Description: Supports all ArcGIS Raster Datasets
Help:
Has Raster Attribute Table: false
Edit Fields Info: null
Ownership Based AccessControl For Rasters: null
Child Resources:
Info
Key Properties
Legend
MultiDimensionalInfo
rasterFunctionInfos
Supported Operations:
Export Image
Identify
Compute Histograms
Compute Statistics Histograms
Get Samples
Compute Class Statistics